BEGIN:VCALENDAR
VERSION:2.0
PRODID:-//Operation Joel - ECPv6.15.20//NONSGML v1.0//EN
CALSCALE:GREGORIAN
METHOD:PUBLISH
X-WR-CALNAME:Operation Joel
X-ORIGINAL-URL:https://operationjoel.org
X-WR-CALDESC:Events for Operation Joel
REFRESH-INTERVAL;VALUE=DURATION:PT1H
X-Robots-Tag:noindex
X-PUBLISHED-TTL:PT1H
BEGIN:VTIMEZONE
TZID:UTC
BEGIN:STANDARD
TZOFFSETFROM:+0000
TZOFFSETTO:+0000
TZNAME:UTC
DTSTART:20190101T000000
END:STANDARD
END:VTIMEZONE
BEGIN:VEVENT
DTSTART;TZID=UTC:20221130T080000
DTEND;TZID=UTC:20221202T170000
DTSTAMP:20260425T123042
CREATED:20161108T232216Z
LAST-MODIFIED:20220513T000137Z
UID:5718-1669795200-1670000400@operationjoel.org
SUMMARY:The Sent Ones of the City Conferences
DESCRIPTION:Host The Joseph Generation in your church or community The Joseph Generation Conference Every 2nd Sunday of each month through Direct Blessings! The Christian enduring persecution from his biological family needs to hear the dozens or hundreds in his spiritual family sing\, “Jesus\, I my cross have taken\, all to leave and follow Thee.” The believer struggling hard against shame needs to watch you exult\, “My sin\, not in part\, but the whole\, has been nailed to the cross\, and I bear it no more!” The saint overburdened by work\, striving\, and performance needs to listen as you affirm\, “We rest on Thee\, our shield.” Get Love to Love the Others1 Corinthians 13:4-8 Love is patient\, love is kind. It does not envy\, it does not boast\, it is not proud.  It is not rude\, it is not self-seeking\, it is not easily angered\, it keeps no record of wrongs.  Love does not delight in evil but rejoices with the truth.  It always protects\, always trusts\, always hopes\, always perseveres.  Love never fails. But where there are prophecies\, they will cease; where there are tongues\, they will be stilled; where there is knowledge\, it will pass away. John 3:16 “For God so loved the world that he gave his one and only Son\, that whoever believes in him shall not perish but have eternal life. 1 John 3:16-18 This is how we know what love is: Jesus Christ laid down his life for us. And we ought to lay down our lives for our brothers. If anyone has material possessions and sees his brother in need but has no pity on him\, how can the love of God be in him? Dear children\, let us not love with words or tongue but with actions and in truth.
URL:https://operationjoel.org/event/the-sent-ones-of-the-city-conferences/
CATEGORIES:Candidates,Voting
ATTACH;FMTTYPE=image/jpeg:https://operationjoel.org/wp-content/uploads/2016/02/churchwp_media_-6.jpg
END:VEVENT
BEGIN:VEVENT
DTSTART;TZID=UTC:20220521T193000
DTEND;TZID=UTC:20220521T213000
DTSTAMP:20260425T123042
CREATED:20220516T031212Z
LAST-MODIFIED:20220516T125407Z
UID:7694-1653161400-1653168600@operationjoel.org
SUMMARY:Belo Horizonte
DESCRIPTION:Host The Joseph Generation in your church or community The Joseph Generation Conference Every 2nd Sunday of each month through Direct Blessings! The Christian enduring persecution from his biological family needs to hear the dozens or hundreds in his spiritual family sing\, “Jesus\, I my cross have taken\, all to leave and follow Thee.” The believer struggling hard against shame needs to watch you exult\, “My sin\, not in part\, but the whole\, has been nailed to the cross\, and I bear it no more!” The saint overburdened by work\, striving\, and performance needs to listen as you affirm\, “We rest on Thee\, our shield.” Get Love to Love the Others1 Corinthians 13:4-8 Love is patient\, love is kind. It does not envy\, it does not boast\, it is not proud.  It is not rude\, it is not self-seeking\, it is not easily angered\, it keeps no record of wrongs.  Love does not delight in evil but rejoices with the truth.  It always protects\, always trusts\, always hopes\, always perseveres.  Love never fails. But where there are prophecies\, they will cease; where there are tongues\, they will be stilled; where there is knowledge\, it will pass away. John 3:16 “For God so loved the world that he gave his one and only Son\, that whoever believes in him shall not perish but have eternal life. 1 John 3:16-18 This is how we know what love is: Jesus Christ laid down his life for us. And we ought to lay down our lives for our brothers. If anyone has material possessions and sees his brother in need but has no pity on him\, how can the love of God be in him? Dear children\, let us not love with words or tongue but with actions and in truth.
URL:https://operationjoel.org/event/belo-horizonte/
ATTACH;FMTTYPE=image/jpeg:https://operationjoel.org/wp-content/uploads/2022/05/WhatsApp-Image-2022-05-12-at-11.27.00-AM.jpeg
END:VEVENT
BEGIN:VEVENT
DTSTART;VALUE=DATE:20220521
DTEND;VALUE=DATE:20221217
DTSTAMP:20260425T123042
CREATED:20220516T031213Z
LAST-MODIFIED:20220516T155107Z
UID:7696-1653091200-1671235199@operationjoel.org
SUMMARY:Uganda
DESCRIPTION:Host The Joseph Generation in your church or community The Joseph Generation Conference Every 2nd Sunday of each month through Direct Blessings! The Christian enduring persecution from his biological family needs to hear the dozens or hundreds in his spiritual family sing\, “Jesus\, I my cross have taken\, all to leave and follow Thee.” The believer struggling hard against shame needs to watch you exult\, “My sin\, not in part\, but the whole\, has been nailed to the cross\, and I bear it no more!” The saint overburdened by work\, striving\, and performance needs to listen as you affirm\, “We rest on Thee\, our shield.” Get Love to Love the Others1 Corinthians 13:4-8 Love is patient\, love is kind. It does not envy\, it does not boast\, it is not proud.  It is not rude\, it is not self-seeking\, it is not easily angered\, it keeps no record of wrongs.  Love does not delight in evil but rejoices with the truth.  It always protects\, always trusts\, always hopes\, always perseveres.  Love never fails. But where there are prophecies\, they will cease; where there are tongues\, they will be stilled; where there is knowledge\, it will pass away. John 3:16 “For God so loved the world that he gave his one and only Son\, that whoever believes in him shall not perish but have eternal life. 1 John 3:16-18 This is how we know what love is: Jesus Christ laid down his life for us. And we ought to lay down our lives for our brothers. If anyone has material possessions and sees his brother in need but has no pity on him\, how can the love of God be in him? Dear children\, let us not love with words or tongue but with actions and in truth.
URL:https://operationjoel.org/event/uganda/
ATTACH;FMTTYPE=image/jpeg:https://operationjoel.org/wp-content/uploads/2022/05/WhatsApp-Image-2022-05-12-at-2.12.13-PM.jpeg
END:VEVENT
BEGIN:VEVENT
DTSTART;VALUE=DATE:20220521
DTEND;VALUE=DATE:20220522
DTSTAMP:20260425T123042
CREATED:20220516T031212Z
LAST-MODIFIED:20220519T112828Z
UID:7693-1653091200-1653177599@operationjoel.org
SUMMARY:Sao Paulo
DESCRIPTION:Host The Joseph Generation in your church or community The Joseph Generation Conference Every 2nd Sunday of each month through Direct Blessings! The Christian enduring persecution from his biological family needs to hear the dozens or hundreds in his spiritual family sing\, “Jesus\, I my cross have taken\, all to leave and follow Thee.” The believer struggling hard against shame needs to watch you exult\, “My sin\, not in part\, but the whole\, has been nailed to the cross\, and I bear it no more!” The saint overburdened by work\, striving\, and performance needs to listen as you affirm\, “We rest on Thee\, our shield.” Get Love to Love the Others1 Corinthians 13:4-8 Love is patient\, love is kind. It does not envy\, it does not boast\, it is not proud.  It is not rude\, it is not self-seeking\, it is not easily angered\, it keeps no record of wrongs.  Love does not delight in evil but rejoices with the truth.  It always protects\, always trusts\, always hopes\, always perseveres.  Love never fails. But where there are prophecies\, they will cease; where there are tongues\, they will be stilled; where there is knowledge\, it will pass away. John 3:16 “For God so loved the world that he gave his one and only Son\, that whoever believes in him shall not perish but have eternal life. 1 John 3:16-18 This is how we know what love is: Jesus Christ laid down his life for us. And we ought to lay down our lives for our brothers. If anyone has material possessions and sees his brother in need but has no pity on him\, how can the love of God be in him? Dear children\, let us not love with words or tongue but with actions and in truth.
URL:https://operationjoel.org/event/sao-paulo/
ATTACH;FMTTYPE=image/jpeg:https://operationjoel.org/wp-content/uploads/2022/05/68ed6d01-3cbf-4216-bc87-5c48a4c6fafa.jpg
END:VEVENT
BEGIN:VEVENT
DTSTART;TZID=UTC:20220515T000000
DTEND;TZID=UTC:20221215T000000
DTSTAMP:20260425T123042
CREATED:20220516T031213Z
LAST-MODIFIED:20220516T135501Z
UID:7695-1652572800-1671062400@operationjoel.org
SUMMARY:Kenya
DESCRIPTION:Host The Joseph Generation in your church or community The Joseph Generation Conference Every 2nd Sunday of each month through Direct Blessings! The Christian enduring persecution from his biological family needs to hear the dozens or hundreds in his spiritual family sing\, “Jesus\, I my cross have taken\, all to leave and follow Thee.” The believer struggling hard against shame needs to watch you exult\, “My sin\, not in part\, but the whole\, has been nailed to the cross\, and I bear it no more!” The saint overburdened by work\, striving\, and performance needs to listen as you affirm\, “We rest on Thee\, our shield.” Get Love to Love the Others1 Corinthians 13:4-8 Love is patient\, love is kind. It does not envy\, it does not boast\, it is not proud.  It is not rude\, it is not self-seeking\, it is not easily angered\, it keeps no record of wrongs.  Love does not delight in evil but rejoices with the truth.  It always protects\, always trusts\, always hopes\, always perseveres.  Love never fails. But where there are prophecies\, they will cease; where there are tongues\, they will be stilled; where there is knowledge\, it will pass away. John 3:16 “For God so loved the world that he gave his one and only Son\, that whoever believes in him shall not perish but have eternal life. 1 John 3:16-18 This is how we know what love is: Jesus Christ laid down his life for us. And we ought to lay down our lives for our brothers. If anyone has material possessions and sees his brother in need but has no pity on him\, how can the love of God be in him? Dear children\, let us not love with words or tongue but with actions and in truth.
URL:https://operationjoel.org/event/kenya/
ATTACH;FMTTYPE=image/jpeg:https://operationjoel.org/wp-content/uploads/2022/05/WhatsApp-Image-2022-05-08-at-1.00.18-PM.jpeg
END:VEVENT
BEGIN:VEVENT
DTSTART;TZID=UTC:20201230T080000
DTEND;TZID=UTC:20201230T080000
DTSTAMP:20260425T123042
CREATED:20161106T232018Z
LAST-MODIFIED:20161106T232018Z
UID:5598-1609315200-1609315200@operationjoel.org
SUMMARY:Celebrating God's Love
DESCRIPTION:Host The Joseph Generation in your church or community The Joseph Generation Conference Every 2nd Sunday of each month through Direct Blessings! The Christian enduring persecution from his biological family needs to hear the dozens or hundreds in his spiritual family sing\, “Jesus\, I my cross have taken\, all to leave and follow Thee.” The believer struggling hard against shame needs to watch you exult\, “My sin\, not in part\, but the whole\, has been nailed to the cross\, and I bear it no more!” The saint overburdened by work\, striving\, and performance needs to listen as you affirm\, “We rest on Thee\, our shield.” Get Love to Love the Others1 Corinthians 13:4-8 Love is patient\, love is kind. It does not envy\, it does not boast\, it is not proud.  It is not rude\, it is not self-seeking\, it is not easily angered\, it keeps no record of wrongs.  Love does not delight in evil but rejoices with the truth.  It always protects\, always trusts\, always hopes\, always perseveres.  Love never fails. But where there are prophecies\, they will cease; where there are tongues\, they will be stilled; where there is knowledge\, it will pass away. John 3:16 “For God so loved the world that he gave his one and only Son\, that whoever believes in him shall not perish but have eternal life. 1 John 3:16-18 This is how we know what love is: Jesus Christ laid down his life for us. And we ought to lay down our lives for our brothers. If anyone has material possessions and sees his brother in need but has no pity on him\, how can the love of God be in him? Dear children\, let us not love with words or tongue but with actions and in truth.
URL:https://operationjoel.org/event/democratic-candidate-presentation/
LOCATION:Arizona\, Arlington Street\, A15 District\, Nevada\, AZ\, United States
CATEGORIES:Candidates,Presentations
ATTACH;FMTTYPE=image/jpeg:https://operationjoel.org/wp-content/uploads/2016/03/churchwp_media_-29.jpg
END:VEVENT
BEGIN:VEVENT
DTSTART;TZID=UTC:20200930T080000
DTEND;TZID=UTC:20201130T170000
DTSTAMP:20260425T123042
CREATED:20161108T232331Z
LAST-MODIFIED:20220512T235917Z
UID:5719-1601452800-1606755600@operationjoel.org
SUMMARY:The Daughters of Abraham Conferences
DESCRIPTION:Host The Joseph Generation in your church or community The Joseph Generation Conference Every 2nd Sunday of each month through Direct Blessings! The Christian enduring persecution from his biological family needs to hear the dozens or hundreds in his spiritual family sing\, “Jesus\, I my cross have taken\, all to leave and follow Thee.” The believer struggling hard against shame needs to watch you exult\, “My sin\, not in part\, but the whole\, has been nailed to the cross\, and I bear it no more!” The saint overburdened by work\, striving\, and performance needs to listen as you affirm\, “We rest on Thee\, our shield.” Get Love to Love the Others1 Corinthians 13:4-8 Love is patient\, love is kind. It does not envy\, it does not boast\, it is not proud.  It is not rude\, it is not self-seeking\, it is not easily angered\, it keeps no record of wrongs.  Love does not delight in evil but rejoices with the truth.  It always protects\, always trusts\, always hopes\, always perseveres.  Love never fails. But where there are prophecies\, they will cease; where there are tongues\, they will be stilled; where there is knowledge\, it will pass away. John 3:16 “For God so loved the world that he gave his one and only Son\, that whoever believes in him shall not perish but have eternal life. 1 John 3:16-18 This is how we know what love is: Jesus Christ laid down his life for us. And we ought to lay down our lives for our brothers. If anyone has material possessions and sees his brother in need but has no pity on him\, how can the love of God be in him? Dear children\, let us not love with words or tongue but with actions and in truth.
URL:https://operationjoel.org/event/the-daughters-of-abraham-conferences/
CATEGORIES:Voting
ATTACH;FMTTYPE=image/jpeg:https://operationjoel.org/wp-content/uploads/2016/12/churchwp_media_-31.jpg
END:VEVENT
BEGIN:VEVENT
DTSTART;TZID=UTC:20200930T080000
DTEND;TZID=UTC:20200930T170000
DTSTAMP:20260425T123042
CREATED:20161108T231935Z
LAST-MODIFIED:20220513T000251Z
UID:5716-1601452800-1601485200@operationjoel.org
SUMMARY:The Joseph Generation Conferences
DESCRIPTION:Host The Joseph Generation in your church or community The Joseph Generation Conference Every 2nd Sunday of each month through Direct Blessings! The Christian enduring persecution from his biological family needs to hear the dozens or hundreds in his spiritual family sing\, “Jesus\, I my cross have taken\, all to leave and follow Thee.” The believer struggling hard against shame needs to watch you exult\, “My sin\, not in part\, but the whole\, has been nailed to the cross\, and I bear it no more!” The saint overburdened by work\, striving\, and performance needs to listen as you affirm\, “We rest on Thee\, our shield.” Get Love to Love the Others1 Corinthians 13:4-8 Love is patient\, love is kind. It does not envy\, it does not boast\, it is not proud.  It is not rude\, it is not self-seeking\, it is not easily angered\, it keeps no record of wrongs.  Love does not delight in evil but rejoices with the truth.  It always protects\, always trusts\, always hopes\, always perseveres.  Love never fails. But where there are prophecies\, they will cease; where there are tongues\, they will be stilled; where there is knowledge\, it will pass away. John 3:16 “For God so loved the world that he gave his one and only Son\, that whoever believes in him shall not perish but have eternal life. 1 John 3:16-18 This is how we know what love is: Jesus Christ laid down his life for us. And we ought to lay down our lives for our brothers. If anyone has material possessions and sees his brother in need but has no pity on him\, how can the love of God be in him? Dear children\, let us not love with words or tongue but with actions and in truth.
URL:https://operationjoel.org/event/the-joseph-generation-conferences/
CATEGORIES:Voting
ATTACH;FMTTYPE=image/jpeg:https://operationjoel.org/wp-content/uploads/2016/02/churchwp_media_-43.jpg
END:VEVENT
BEGIN:VEVENT
DTSTART;TZID=UTC:20200815T080000
DTEND;TZID=UTC:20200817T170000
DTSTAMP:20260425T123042
CREATED:20161108T232457Z
LAST-MODIFIED:20161108T232457Z
UID:5720-1597478400-1597683600@operationjoel.org
SUMMARY:Celebrating Family Together
DESCRIPTION:Host The Joseph Generation in your church or community The Joseph Generation Conference Every 2nd Sunday of each month through Direct Blessings! The Christian enduring persecution from his biological family needs to hear the dozens or hundreds in his spiritual family sing\, “Jesus\, I my cross have taken\, all to leave and follow Thee.” The believer struggling hard against shame needs to watch you exult\, “My sin\, not in part\, but the whole\, has been nailed to the cross\, and I bear it no more!” The saint overburdened by work\, striving\, and performance needs to listen as you affirm\, “We rest on Thee\, our shield.” Get Love to Love the Others1 Corinthians 13:4-8 Love is patient\, love is kind. It does not envy\, it does not boast\, it is not proud.  It is not rude\, it is not self-seeking\, it is not easily angered\, it keeps no record of wrongs.  Love does not delight in evil but rejoices with the truth.  It always protects\, always trusts\, always hopes\, always perseveres.  Love never fails. But where there are prophecies\, they will cease; where there are tongues\, they will be stilled; where there is knowledge\, it will pass away. John 3:16 “For God so loved the world that he gave his one and only Son\, that whoever believes in him shall not perish but have eternal life. 1 John 3:16-18 This is how we know what love is: Jesus Christ laid down his life for us. And we ought to lay down our lives for our brothers. If anyone has material possessions and sees his brother in need but has no pity on him\, how can the love of God be in him? Dear children\, let us not love with words or tongue but with actions and in truth.
URL:https://operationjoel.org/event/first-day-as-senator/
CATEGORIES:Voting
ATTACH;FMTTYPE=image/jpeg:https://operationjoel.org/wp-content/uploads/2016/01/churchwp_media_-45_1.jpg
END:VEVENT
BEGIN:VEVENT
DTSTART;VALUE=DATE:20200801
DTEND;VALUE=DATE:20220831
DTSTAMP:20260425T123042
CREATED:20161108T232054Z
LAST-MODIFIED:20220512T235706Z
UID:5717-1596240000-1661903999@operationjoel.org
SUMMARY:Operation Joel
DESCRIPTION:Host The Joseph Generation in your church or community The Joseph Generation Conference Every 2nd Sunday of each month through Direct Blessings! The Christian enduring persecution from his biological family needs to hear the dozens or hundreds in his spiritual family sing\, “Jesus\, I my cross have taken\, all to leave and follow Thee.” The believer struggling hard against shame needs to watch you exult\, “My sin\, not in part\, but the whole\, has been nailed to the cross\, and I bear it no more!” The saint overburdened by work\, striving\, and performance needs to listen as you affirm\, “We rest on Thee\, our shield.” Get Love to Love the Others1 Corinthians 13:4-8 Love is patient\, love is kind. It does not envy\, it does not boast\, it is not proud.  It is not rude\, it is not self-seeking\, it is not easily angered\, it keeps no record of wrongs.  Love does not delight in evil but rejoices with the truth.  It always protects\, always trusts\, always hopes\, always perseveres.  Love never fails. But where there are prophecies\, they will cease; where there are tongues\, they will be stilled; where there is knowledge\, it will pass away. John 3:16 “For God so loved the world that he gave his one and only Son\, that whoever believes in him shall not perish but have eternal life. 1 John 3:16-18 This is how we know what love is: Jesus Christ laid down his life for us. And we ought to lay down our lives for our brothers. If anyone has material possessions and sees his brother in need but has no pity on him\, how can the love of God be in him? Dear children\, let us not love with words or tongue but with actions and in truth.
URL:https://operationjoel.org/event/operation-joel/
CATEGORIES:Candidates,Voting
ATTACH;FMTTYPE=image/jpeg:https://operationjoel.org/wp-content/uploads/2016/02/churchwp_media_-42.jpg
END:VEVENT
END:VCALENDAR